BEGIN:VCALENDAR
VERSION:2.0
PRODID:-//My Community Diary//iCal Event//EN
CALSCALE:GREGORIAN
METHOD:PUBLISH
BEGIN:VEVENT
UID:06b3248b-993e-4f26-869b-88c7926683a3
DTSTAMP:20260421T223151Z
DTSTART;VALUE=DATE:20260513
DTEND;VALUE=DATE:20260514
SUMMARY:Strength For Life - Over 50's Fitness Classes
DESCRIPTION:Strength for Life is a personalised program designed for individuals aged 50+\, focused on improving strength\, balance\, and overall fitness. Take charge of your fitness today and feel stronger\, more confident\, and active!\n\nEntry Cost\nAdult $8.5  - 10-Pass Pack $85.00\nSingle Pass $9.50\nInitial Health Assessment $45.00
LOCATION:\, Victoria Drive Union House\, Level 4\, Adelaide\, SA 5000\, SA\, 5000
RRULE:FREQ=DAILY;INTERVAL=1;UNTIL=20260515T000000Z
END:VEVENT
END:VCALENDAR
