BEGIN:VCALENDAR
VERSION:2.0
PRODID:-//My Community Diary//iCal Event//EN
CALSCALE:GREGORIAN
METHOD:PUBLISH
BEGIN:VEVENT
UID:0ecda6f8-37df-4d03-b46c-1268dda16f69
DTSTAMP:20260421T224239Z
DTSTART;VALUE=DATE:20260802
DTEND;VALUE=DATE:20260803
SUMMARY:Puppy Yoga Adelaide - Every Weekend with Yoga Paws
DESCRIPTION:Discover Adelaide's most joyful wellness event - Puppy Yoga by Yoga Paws. Every Saturday and Sunday\, join a relaxing\, beginner-friendly yoga session while playful puppies roam the room\, cuddle up\, and lift your mood. Each 60-minute class combines mindfulness\, gentle movement\, and therapeutic puppy interaction - designed to leave you smiling\, grounded\, and just a little covered in fluff.\n\nHeld in their clean\, calming Erindale studio\, Eastside Yoga & Pilates\, these sessions also support animal welfare by helping puppies socialise in a safe environment before finding their forever homes. Whether you're a dog lover\, yoga newbie\, or just want to unwind in a unique way\, this is for you.\n\nCome along\, wear comfy clothes\, and prepare to stretch\, breathe\, and connect - with yourself and some adorable puppies.\n\nEntry Cost\nAll tickets $50  - Generally\, our classes are $70 each including taxes. However\, they are sometimes more or less\, such as for special events!
LOCATION:\, 370 Kensington Road\, Erindale\, SA 5066\, SA\, 5066
RRULE:FREQ=DAILY;INTERVAL=1;UNTIL=20260804T000000Z
END:VEVENT
END:VCALENDAR
