BEGIN:VCALENDAR
VERSION:2.0
PRODID:-//My Community Diary//iCal Event//EN
CALSCALE:GREGORIAN
METHOD:PUBLISH
BEGIN:VEVENT
UID:d3ca0d21-7d04-49c6-84e7-73ae5e943b87
DTSTAMP:20260421T224401Z
DTSTART;VALUE=DATE:20260627
DTEND;VALUE=DATE:20260628
SUMMARY:Wondai Country Running Festival
DESCRIPTION:A competitive running event held annually inn Wondai the fourth weekend in June. \n\nOffering nine events including : Dash for Cash\, All Abilities\, Family funrun\, two trail runs and 5km\, 10 km\, Half marathon and Full marathon.\n\nThey have generous cut off limits to foster a family friendly running event\, but most events are competitive and have electronic timing.
LOCATION:\, 40 Haly Street\, Wondai\, QLD 4606\, QLD\, 4606
RRULE:FREQ=DAILY;INTERVAL=1;UNTIL=20260629T000000Z
END:VEVENT
END:VCALENDAR
