BEGIN:VCALENDAR
VERSION:2.0
PRODID:-//My Community Diary//iCal Event//EN
CALSCALE:GREGORIAN
METHOD:PUBLISH
BEGIN:VEVENT
UID:855fc1e6-f4bd-41aa-abf6-864c0eb4d749
DTSTAMP:20260422T083826Z
DTSTART;VALUE=DATE:20260517
DTEND;VALUE=DATE:20260518
SUMMARY:Rocky River Run
DESCRIPTION:The Rocky River Run is Rockhampton's largest running event. \n\nCelebrating its 18th successful year in 2026\, 7Rocky River Run has become a great tourist attraction for Rockhampton and is a major contributor to funding local community groups.\n\nStarting and finishing on the Riverside Precinct\, Rockhampton's favourite running event once again promises to be a fun day out.
LOCATION:\, Quay Street\, Rockhampton City\, QLD 4700\, QLD\, 4700
END:VEVENT
END:VCALENDAR
