BEGIN:VCALENDAR
VERSION:2.0
PRODID:-//My Community Diary//iCal Event//EN
CALSCALE:GREGORIAN
METHOD:PUBLISH
BEGIN:VEVENT
UID:60a37b82-76f3-47a9-9903-0f6e8696b7bd
DTSTAMP:20260422T035835Z
DTSTART;VALUE=DATE:20260711
DTEND;VALUE=DATE:20260712
SUMMARY:Sussex Inlet Community Markets
DESCRIPTION:The Sussex Inlet markets are held at the Ellmoos Centre grounds  and the Lions Club Peace Park  second Saturday of the month.\n\nCome along and purchase plants\, arts and crafts\, fresh locally grown food\, gifts and lots more.\n\nCancellation may occur due to very inclement weather.
LOCATION:\, 175 Jacobs Drive\, Sussex Inlet\, NSW 2540\, NSW\, 2540
RRULE:FREQ=DAILY;INTERVAL=1;UNTIL=20260713T000000Z
END:VEVENT
END:VCALENDAR
