BEGIN:VCALENDAR
VERSION:2.0
PRODID:-//My Community Diary//iCal Event//EN
CALSCALE:GREGORIAN
METHOD:PUBLISH
BEGIN:VEVENT
UID:1a128c18-c944-44d6-8c30-55f12dd77d19
DTSTAMP:20260422T005121Z
DTSTART;VALUE=DATE:20260718
DTEND;VALUE=DATE:20260719
SUMMARY:Riverina Schoolboys Football Carnival
DESCRIPTION:A highlight sporting event in Junee is held annually at Laurie Daley Oval. The Riverina Schoolboys Football Carnival is a rugby league round-robin competition for girls and boys aged 6-15 years.
LOCATION:\, Park Lane\, Junee\, NSW 2663\, NSW\, 2663
RRULE:FREQ=DAILY;INTERVAL=1;UNTIL=20260720T000000Z
END:VEVENT
END:VCALENDAR
