BEGIN:VCALENDAR
VERSION:2.0
PRODID:-//My Community Diary//iCal Event//EN
CALSCALE:GREGORIAN
METHOD:PUBLISH
BEGIN:VEVENT
UID:dd6e11ad-3c6d-467a-a738-3469e7269b70
DTSTAMP:20260422T021034Z
DTSTART;VALUE=DATE:20260717
DTEND;VALUE=DATE:20260718
SUMMARY:Riverina Schoolboys Football Carnival
DESCRIPTION:A highlight sporting event in Junee is held annually at Laurie Daley Oval. The Riverina Schoolboys Football Carnival is a rugby league round-robin competition for girls and boys aged 6-15 years.
LOCATION:\, Park Lane\, Junee\, NSW 2663\, NSW\, 2663
RRULE:FREQ=DAILY;INTERVAL=1;UNTIL=20260719T000000Z
END:VEVENT
END:VCALENDAR
