BEGIN:VCALENDAR
VERSION:2.0
PRODID:-//My Community Diary//iCal Event//EN
CALSCALE:GREGORIAN
METHOD:PUBLISH
BEGIN:VEVENT
UID:3d4659ce-756d-4f7e-bd55-584350d737a8
DTSTAMP:20260422T035602Z
DTSTART;VALUE=DATE:20260710
DTEND;VALUE=DATE:20260711
SUMMARY:Riverina Schoolboys Football Carnival
DESCRIPTION:A highlight sporting event in Junee is held annually at Laurie Daley Oval. The Riverina Schoolboys Football Carnival is a rugby league round-robin competition for girls and boys aged 6-15 years.
LOCATION:\, Park Lane\, Junee\, NSW 2663\, NSW\, 2663
RRULE:FREQ=DAILY;INTERVAL=1;UNTIL=20260712T000000Z
END:VEVENT
END:VCALENDAR
