BEGIN:VCALENDAR
VERSION:2.0
PRODID:-//My Community Diary//iCal Event//EN
CALSCALE:GREGORIAN
METHOD:PUBLISH
BEGIN:VEVENT
UID:f8fb07f0-ea81-4a89-9897-82fa97752023
DTSTAMP:20260422T054504Z
DTSTART;VALUE=DATE:20260708
DTEND;VALUE=DATE:20260709
SUMMARY:Riverina Schoolboys Football Carnival
DESCRIPTION:A highlight sporting event in Junee is held annually at Laurie Daley Oval. The Riverina Schoolboys Football Carnival is a rugby league round-robin competition for girls and boys aged 6-15 years.
LOCATION:\, Park Lane\, Junee\, NSW 2663\, NSW\, 2663
RRULE:FREQ=DAILY;INTERVAL=1;UNTIL=20260710T000000Z
END:VEVENT
END:VCALENDAR
