BEGIN:VCALENDAR
VERSION:2.0
PRODID:-//My Community Diary//iCal Event//EN
CALSCALE:GREGORIAN
METHOD:PUBLISH
BEGIN:VEVENT
UID:79dae9a0-7e96-4d7c-8627-0378e18ab1a8
DTSTAMP:20260423T140603Z
DTSTART;VALUE=DATE:20260703
DTEND;VALUE=DATE:20260704
SUMMARY:Riverina Schoolboys Football Carnival
DESCRIPTION:A highlight sporting event in Junee is held annually at Laurie Daley Oval. The Riverina Schoolboys Football Carnival is a rugby league round-robin competition for girls and boys aged 6-15 years.
LOCATION:\, Park Lane\, Junee\, NSW 2663\, NSW\, 2663
RRULE:FREQ=DAILY;INTERVAL=1;UNTIL=20260705T000000Z
END:VEVENT
END:VCALENDAR
