BEGIN:VCALENDAR
VERSION:2.0
PRODID:-//My Community Diary//iCal Event//EN
CALSCALE:GREGORIAN
METHOD:PUBLISH
BEGIN:VEVENT
UID:33b0c900-bd9e-4564-8802-af990b7d4b5c
DTSTAMP:20260421T211604Z
DTSTART;VALUE=DATE:20260704
DTEND;VALUE=DATE:20260705
SUMMARY:Bingara Orange Festival
DESCRIPTION:In 1998 it was decided to hold an annual festival to emphasise the importance of Bingara’s orange trees whilst celebrating Bingara’s cultural heritage. The Bingara Orange Festival provides an entertaining two days of festivities for the community\, surrounding district and visitors.\n\nThe festival features street markets\, street parades\, pageants\, sporting and cultural activities and has grown enormously in stature since its inception. Now considered one of the major events on the Bingara community calendar\, the event attracts crowds in excess of 1500.\n\nEach year the bar is raised even higher\, with the inclusion of new initiatives\, keeping the festival fresh and attractive year after year. However\, one thing that never changes\, is the memory of those who have fallen and for whom the orange trees represent.\n\nThe Orange Festival is held the Saturday following the Orange Picking Ceremony\, either at the end of June or early July each year. Stall holders are encouraged to attend by contacting the Bingara Visitors Information Centre.
LOCATION:\, Maitland Street\, Bingara\, NSW 2404\, NSW\, 2404
END:VEVENT
END:VCALENDAR
