BEGIN:VCALENDAR
VERSION:2.0
PRODID:-//My Community Diary//iCal Event//EN
CALSCALE:GREGORIAN
METHOD:PUBLISH
BEGIN:VEVENT
UID:67f7c7da-c363-4f56-b1f2-4c18b893fdd2
DTSTAMP:20260422T023716Z
DTSTART;VALUE=DATE:20260612
DTEND;VALUE=DATE:20260613
SUMMARY:Big Gig Fridays at The Australian Hotel Ballina
DESCRIPTION:The Aussie Hotel is Ballina's go-to destination for live music every Friday night\, serving up an unbeatable mix of local legends and standout touring acts. From soulful acoustic sets to high-energy rock\, country\, blues\, and everything in between\, each week brings a fresh sound and a buzzing atmosphere.\n\nWhether you're winding down after work or kicking off a weekend of fun\, The Aussie offers the perfect blend of great music\, delicious food\, and cold drinks\, all in a relaxed\, welcoming venue that's all about community and good times.\n\nNo two Fridays are the same\, so grab your friends\, pull up a seat\, and discover your new favourite artist at Ballina's home of live music.
LOCATION:\, 103 River St\, Ballina\, NSW 2478\, NSW\, 2478
RRULE:FREQ=DAILY;INTERVAL=1;UNTIL=20260614T000000Z
END:VEVENT
END:VCALENDAR
