BEGIN:VCALENDAR
VERSION:2.0
PRODID:-//My Community Diary//iCal Event//EN
CALSCALE:GREGORIAN
METHOD:PUBLISH
BEGIN:VEVENT
UID:6df55c09-487e-48d0-bbcf-cc1cd4e3231a
DTSTAMP:20260421T211513Z
DTSTART;VALUE=DATE:20260614
DTEND;VALUE=DATE:20260615
SUMMARY:Kununurra Half Marathon
DESCRIPTION:A Half Marathon\, held in Kununurra\, participants can choose to run 21.1 kilometre solo\, or in a relay team of two or four people.\n\nEnjoy the perfect dry season weather on offer in Kununurra in mid-June and be part of the action on this off-road course.\n\nThe start and finish lines are at Kununurra BMX Track.\n\nEntry Cost\nAdult $35 
LOCATION:\, Rodeo Grounds Precinct\, Drovers Road\, Kununurra\, WA 6743\, WA\, 6743
END:VEVENT
END:VCALENDAR
