BEGIN:VCALENDAR
VERSION:2.0
PRODID:-//My Community Diary//iCal Event//EN
CALSCALE:GREGORIAN
METHOD:PUBLISH
BEGIN:VEVENT
UID:94a791d2-a2f0-449b-ac2f-94d6436e1895
DTSTAMP:20260424T160647Z
DTSTART:20210110T080000Z
DTEND:20210110T170000Z
SUMMARY:Diabetes Education - Emerald
DESCRIPTION:LiveBetter Services Ltd at LiveBetter - Emerald. Please confirm precise times with the service provider.
LOCATION:\, 3/21 Hospital Road\, Emerald\, QLD\, 4720\, QLD\, 4720
END:VEVENT
END:VCALENDAR
