BEGIN:VCALENDAR
VERSION:2.0
PRODID:-//My Community Diary//iCal Event//EN
CALSCALE:GREGORIAN
METHOD:PUBLISH
BEGIN:VEVENT
UID:dcc00e0f-ca88-43ae-bde3-f283877237f3
DTSTAMP:20260421T205530Z
DTSTART;VALUE=DATE:20261224
DTEND;VALUE=DATE:20261225
SUMMARY:Glass Painting Workshop for Beginners
DESCRIPTION:Join in for a transformative beginner-friendly glass painting workshop in Melbourne where you will learn how to create your own custom light. Using an acrylic panel and a light with a base\, you can paint intricate designs and vibrant patterns to take home.\n\nPremium acrylic paints and a variety of reference drawings are provided and you will receive step-by-step guidance from experienced artists. You will also learn about glass art fundamentals and hand-drawing techniques and transform a simple acrylic panel into a mesmerising night light.\n\nDon't worry if you are new to glass painting\; our experienced artists will provide all the support you need throughout the workshop. You will feel confident as you explore different painting techniques and unleash your creativity to make a unique night light that reflects your personal style.\n\nBy the end of the class\, you will proudly take home your stunning piece of art to gift to a loved one or brighten up your living space.\n\nEntry Cost\nAll tickets $90 
LOCATION:\, 838 Collins Street shop 6\, Docklands\, VIC 3008\, VIC\, 3008
RRULE:FREQ=DAILY;INTERVAL=1;UNTIL=20261226T000000Z
END:VEVENT
END:VCALENDAR
