BEGIN:VCALENDAR
VERSION:2.0
PRODID:-//My Community Diary//iCal Event//EN
CALSCALE:GREGORIAN
METHOD:PUBLISH
BEGIN:VEVENT
UID:062651e7-855b-4a15-bca3-45625b09bbf0
DTSTAMP:20260422T071353Z
DTSTART;VALUE=DATE:20260531
DTEND;VALUE=DATE:20260601
SUMMARY:McLaren Vale Marathon 2026
DESCRIPTION:The McLaren Vale Marathon is backfor 2026 with all the energy and excitement of the start and finish lines in the heart of town ! \n\nThe day includes the marathon\, half marathon\, 10K\, 5K and kids' dash - all beautiful runs through the vines on 100% sealed roads\, with courses certified by World Athletics / AIMS.\n\nThe Great Southern Runs team's commitment to delivering an exceptional race experience continues unabated\, and we look forward to welcoming you to this new chapter in the McLaren Vale Marathon's story.  Get ready for a memorable race day in McLaren Vale on 31 May 2026!\n\nEntry Cost\nAdult $30  - Entry fees vary with the race distance and pricing period - enter early to save!\nChild $0  - Free Kids' Dash
LOCATION:\, Main Road\, McLaren Vale\, SA 5171\, SA\, 5171
END:VEVENT
END:VCALENDAR
