BEGIN:VCALENDAR
VERSION:2.0
PRODID:-//My Community Diary//iCal Event//EN
CALSCALE:GREGORIAN
METHOD:PUBLISH
BEGIN:VEVENT
UID:2779435d-768b-40bd-bc98-11293f596ba2
DTSTAMP:20260422T015731Z
DTSTART;VALUE=DATE:20260809
DTEND;VALUE=DATE:20260810
SUMMARY:2025 Australian Pool Rescue Championships
DESCRIPTION:The 2025 National and Interstate Pool Rescue Championships will be held at the Southport Aquatic Centre on Queensland's Gold Coast.\n\nThe Australian Pool Rescue Championships take us into aquatic centres around the country to test Australia's most skilled swimmers and showcase various skills. \n\nThe Australian Pool Rescue Championships are also one of the key qualifying events for our national lifesaving teams. It is also an opportunity for our elite lifesavers to display the skills that keep them rescue ready for the start of the patrol season.
LOCATION:\, Morphett Road 443\, Oaklands Park\, SA 5046\, SA\, 5046
RRULE:FREQ=DAILY;INTERVAL=1;UNTIL=20260811T000000Z
END:VEVENT
END:VCALENDAR
