BEGIN:VCALENDAR
VERSION:2.0
PRODID:-//My Community Diary//iCal Event//EN
CALSCALE:GREGORIAN
METHOD:PUBLISH
BEGIN:VEVENT
UID:c9a768d9-6608-41d6-8ed6-39c7862b58ba
DTSTAMP:20260421T222019Z
DTSTART;VALUE=DATE:20260524
DTEND;VALUE=DATE:20260525
SUMMARY:Sunday Craft Club
DESCRIPTION:Drop in. Get crafty. Make it your Sunday thing!\n\nLooking for a chill way to spend your Sunday? Swing by Tinker for a fun\, hands-on session of creative play. Whether you're flying solo\, coming with friends\, or wrangling a crafty kiddo\, our self-guided projects are easy\, inspiring\, and always changing!\n\nChoose from our rotating craft menu\, settle into our cosy studio\, and enjoy some quality creative time. It's low-cost\, laid-back\, and all about making something just for the joy of it.\n\nNo need to book – just show up\, pick a project\, and get making!\n\nNeed-to-Know Info:\nNo bookings required – it's a casual drop-in\, with spots available on arrival\nSelf-guided activities – we supply the materials and ideas\, you make it your own\n Projects take about 30 minutes – just enough for a fun creative fix\nCold drinks available to keep you refreshed while you create\nTinker Shop is open – browse art supplies & quirky handmade treasures\nStreet parking available right outside the studio\nNo child minding – little makers must be supervised by a grown-up.
LOCATION:\, 45 Stephen Street Tenancy 3\, South Toowoomba\, QLD 4350\, QLD\, 4350
RRULE:FREQ=DAILY;INTERVAL=1;UNTIL=20260526T000000Z
END:VEVENT
END:VCALENDAR
