BEGIN:VCALENDAR
VERSION:2.0
PRODID:-//My Community Diary//iCal Event//EN
CALSCALE:GREGORIAN
METHOD:PUBLISH
BEGIN:VEVENT
UID:7891924b-4d83-4837-ae92-7ad1246e8859
DTSTAMP:20260421T225601Z
DTSTART;VALUE=DATE:20260614
DTEND;VALUE=DATE:20260615
SUMMARY:Scenic Rim Clydesdale Spectacular
DESCRIPTION:They are the Gentle Giants of the horse world\, recognised in Australia as 'the breed that built the nation' and at Beaudesert in the Scenic Rim\, the Clydesdale will be celebrated in style. \n\nThe Scenic Rim Clydesdale Spectacular is the richest Clydesdale Show in the Southern Hemisphere\, where the grand champions of the breed are judged\, the Scottish heritage of the breed is shared\, and the history of the breed in Australia – and in the Scenic Rim – is celebrated. \n\nOver two action-packed days\, a full program of Clydesdale competition will take place in the main arena at the Beaudesert Showground\, including led\, carriage and harness classes. And there's much more!\n\nThe program also features rare trade demonstrations that focus on "the heavy horse" - harness making\, blacksmithing\, wheelwrights\, carriage rides\, and whip plaiting. Additional highlights include the Queensland Whip Cracking Championships\, the World Billy Boiling Championships\, wood chopping\, working dog displays\, Friesian Horse Troupe performances and bush poetry.\n\nIn tribute to the Scottish descendants who moved to the region and brought with them their beloved Clydesdale breed\, the event includes Pipes and Drums\, Calling of the Clans\, the Clydesdale and Clan class and traditional Scottish caber tossing. There'll be whisky\, haggis pies and more\, Scots are encouraged to attend in their clan kilts!\n\nEntry Cost\nAdult $25  - Children 4 years & under FREE\nChild $15  - Children 4 years & under FREE
LOCATION:\, Albert Street\, Beaudesert\, QLD 4285\, QLD\, 4285
RRULE:FREQ=DAILY;INTERVAL=1;UNTIL=20260616T000000Z
END:VEVENT
END:VCALENDAR
