BEGIN:VCALENDAR
VERSION:2.0
PRODID:-//My Community Diary//iCal Event//EN
CALSCALE:GREGORIAN
METHOD:PUBLISH
BEGIN:VEVENT
UID:4ba0d698-6d98-4be7-aeeb-df5d2af49e83
DTSTAMP:20260422T013840Z
DTSTART;VALUE=DATE:20260509
DTEND;VALUE=DATE:20260510
SUMMARY:Mansfield Botanic Parkrun
DESCRIPTION:Mansfield Botanic parkrun is a free weekly five kilometre event for participants of all standards\, which takes place every Saturday at 8:00am in Mansfield Botanic Park. It is not a race against other runners\, but a five kilometre timed run and it can really be whatever you want it to be\, whether that's for fun or as part of a training plan.\n\nIt offers an opportunity for all the local community\, regardless of age or gender\, to come together on a regular basis to enjoy this beautiful park and get physically active into the bargain. They want to encourage people to run\, jog or walk together irrespective of their ability – this event is truly open to all and best of all it really is free!\n\nVolunteer marshals always welcome.
LOCATION:\, 100 Mansfield-Whitfield Road\, Mansfield\, VIC 3722\, VIC\, 3722
RRULE:FREQ=DAILY;INTERVAL=1;UNTIL=20260511T000000Z
END:VEVENT
END:VCALENDAR
