BEGIN:VCALENDAR
VERSION:2.0
PRODID:-//My Community Diary//iCal Event//EN
CALSCALE:GREGORIAN
METHOD:PUBLISH
BEGIN:VEVENT
UID:eaf50dd4-3c80-402a-929c-02a9a7c936d4
DTSTAMP:20260422T071753Z
DTSTART;VALUE=DATE:20260726
DTEND;VALUE=DATE:20260727
SUMMARY:Makers Market at The District Docklands
DESCRIPTION:Head down to The District Makers Market to enjoy 70-100 creative\, colourful market stalls showcasing art\, craft\, jewellery\, fashion\, homewares and gifts.\n\nBring your furry friends along as The District is a pet-friendly precinct and you’ll find stalls selling doggie treats\, accessories and outfits. Grab a coffee and take a stroll through the open-air laneways and enjoy a spot of shopping.
LOCATION:\, 440 Docklands Drive\, Docklands\, VIC 3008\, VIC\, 3008
RRULE:FREQ=DAILY;INTERVAL=1;UNTIL=20260728T000000Z
END:VEVENT
END:VCALENDAR
