BEGIN:VCALENDAR
VERSION:2.0
PRODID:-//My Community Diary//iCal Event//EN
CALSCALE:GREGORIAN
METHOD:PUBLISH
BEGIN:VEVENT
UID:27a14324-3f79-4dc8-9772-8b27625217fd
DTSTAMP:20260422T015753Z
DTSTART;VALUE=DATE:20260601
DTEND;VALUE=DATE:20260602
SUMMARY:Sculpture for Clyde
DESCRIPTION:A ten-day free event held on the Batemans Bay Foreshore highlighting original Sculptures from Australia and overseas.\n\nThe event includes an outdoor sculpture exhibition\, indoor sculpture exhibition and a student sculpture exhibition\, with regional high schools partaking in this part of the event. \n\nAll sculptures are unique with no editions\, representing opportunities for the public to enjoy or purchase original art. \n\nThe sculpture winning the acquisitive award will be permanently positioned in the Batemans Bay Sculpture Walk along the Clyde River foreshore.
LOCATION:\, Clyde Street\, Batemans Bay\, NSW 2536\, NSW\, 2536
RRULE:FREQ=DAILY;INTERVAL=1;UNTIL=20260603T000000Z
END:VEVENT
END:VCALENDAR
