BEGIN:VCALENDAR
VERSION:2.0
PRODID:-//My Community Diary//iCal Event//EN
CALSCALE:GREGORIAN
METHOD:PUBLISH
BEGIN:VEVENT
UID:7191479d-5b9c-440f-a12b-f29bee67ef5a
DTSTAMP:20260422T015737Z
DTSTART;VALUE=DATE:20260531
DTEND;VALUE=DATE:20260601
SUMMARY:Sculpture for Clyde
DESCRIPTION:A ten-day free event held on the Batemans Bay Foreshore highlighting original Sculptures from Australia and overseas.\n\nThe event includes an outdoor sculpture exhibition\, indoor sculpture exhibition and a student sculpture exhibition\, with regional high schools partaking in this part of the event. \n\nAll sculptures are unique with no editions\, representing opportunities for the public to enjoy or purchase original art. \n\nThe sculpture winning the acquisitive award will be permanently positioned in the Batemans Bay Sculpture Walk along the Clyde River foreshore.
LOCATION:\, Clyde Street\, Batemans Bay\, NSW 2536\, NSW\, 2536
RRULE:FREQ=DAILY;INTERVAL=1;UNTIL=20260602T000000Z
END:VEVENT
END:VCALENDAR
