BEGIN:VCALENDAR
VERSION:2.0
PRODID:-//My Community Diary//iCal Event//EN
CALSCALE:GREGORIAN
METHOD:PUBLISH
BEGIN:VEVENT
UID:c25be205-7a24-4f98-8bbe-66bfa1ffc2bb
DTSTAMP:20260422T021153Z
DTSTART;VALUE=DATE:20270605
DTEND;VALUE=DATE:20270606
SUMMARY:Huskisson parkrun
DESCRIPTION:Huskisson parkrun is a free\, weekly\, timed five-kilometre running and walking event held at Moona Moona Creek at Huskisson\, NSW. \n\nIt's open to everyone\, regardless of age or ability\, and is organised by volunteers. Participants can choose to walk\, jog\, run\, volunteer\, or spectate. \n\nIt's not a race\; parkrun events are timed\, and participants receive a personal time. They are all about community and inclusivity\, and they are organised and run by volunteers. Dogs are welcome on a short\, hand-held lead. \n\nEveryone is welcome-  all ages and abilities\, including walkers\, joggers\, and runners.
LOCATION:\, Moona Moona Creek\, Huskisson\, NSW 2540\, NSW\, 2540
RRULE:FREQ=DAILY;INTERVAL=1;UNTIL=20270607T000000Z
END:VEVENT
END:VCALENDAR
