BEGIN:VCALENDAR
VERSION:2.0
PRODID:-//My Community Diary//iCal Event//EN
CALSCALE:GREGORIAN
METHOD:PUBLISH
BEGIN:VEVENT
UID:6a103b03-f700-407c-813f-bb5ea58f0561
DTSTAMP:20260422T023727Z
DTSTART;VALUE=DATE:20260912
DTEND;VALUE=DATE:20260913
SUMMARY:Slowfood West Footscray Farmers Market
DESCRIPTION:Slow Food Melbourne is a community-driven network dedicated to good\, clean and fair food for all. They run vibrant farmers markets across Melbourne's west\, supporting small-scale producers\, promoting seasonal and sustainable eating\, and connecting locals with the people who grow and make their food.\n\nJoin the Slow Food West Footscray farmers' market on the second Saturday of every month.
LOCATION:\, 55-57 Essex Street\, West Footscray\, VIC 3012\, VIC\, 3012
RRULE:FREQ=DAILY;INTERVAL=1;UNTIL=20260914T000000Z
END:VEVENT
END:VCALENDAR
