BEGIN:VCALENDAR
VERSION:2.0
PRODID:-//My Community Diary//iCal Event//EN
CALSCALE:GREGORIAN
METHOD:PUBLISH
BEGIN:VEVENT
UID:862a3cd8-5b75-48d2-b301-f43d0d00dd48
DTSTAMP:20260421T205512Z
DTSTART;VALUE=DATE:20260531
DTEND;VALUE=DATE:20260601
SUMMARY:Live Music Sessions at Yarrawood Estate
DESCRIPTION:Yarrawood Estate's Live Music Sessions are held throughout the year on every Saturday and Sunday afternoon\, and feature live acoustic performances from a diverse range of highly talented local artists.\n\nSo why not relax and unwind with a scrumptious lunch\, a glass of wine and a few of your closest friends\, whilst listening to an amazing live performance.\n\nThere's no better way to enjoy a lazy afternoon!
LOCATION:\, 1275 Melba Highway\, Yarra Glen\, VIC 3775\, VIC\, 3775
RRULE:FREQ=DAILY;INTERVAL=1;UNTIL=20260602T000000Z
END:VEVENT
END:VCALENDAR
