BEGIN:VCALENDAR
VERSION:2.0
PRODID:-//My Community Diary//iCal Event//EN
CALSCALE:GREGORIAN
METHOD:PUBLISH
BEGIN:VEVENT
UID:41d5aaaf-3cf1-4533-817a-5e9622223e20
DTSTAMP:20260422T015740Z
DTSTART;VALUE=DATE:20260614
DTEND;VALUE=DATE:20260615
SUMMARY:Queensland Oztag Tri Series
DESCRIPTION:The Qld Oztag Tri Series follows the Junior and Senior State Cups. The best players from the Qld Junior and Senior State Cups are selected to participate at this event vying for positions in the Qld Team playing at the Oztag State of Origin event.
LOCATION:\, 31 Sportsmans Parade\, Bokarina\, QLD 4575\, QLD\, 4575
RRULE:FREQ=DAILY;INTERVAL=1;UNTIL=20260616T000000Z
END:VEVENT
END:VCALENDAR
