BEGIN:VCALENDAR
VERSION:2.0
PRODID:-//My Community Diary//iCal Event//EN
CALSCALE:GREGORIAN
METHOD:PUBLISH
BEGIN:VEVENT
UID:42fdb08d-f2e5-4de2-8bba-6981ddb49b6f
DTSTAMP:20260424T160641Z
DTSTART:20240817T110000Z
DTEND:20240817T180000Z
SUMMARY:G J Gardner Homes 2024  Quorn Cup
DESCRIPTION:Horse Racing\, Fashion on the Field\, Free kids Entertainment\, TAB\, fully catered food and bar.\n\nShuttle bus on day of races by gold coin donation.\n\nEntry Cost\nAll tickets $9  - Adults $18\nConcession $9\nchildren under U17
LOCATION:\, Kingswood Bore Road\, Quorn\, SA 5433\, SA\, 5433
END:VEVENT
END:VCALENDAR
