BEGIN:VCALENDAR
VERSION:2.0
PRODID:-//My Community Diary//iCal Event//EN
CALSCALE:GREGORIAN
METHOD:PUBLISH
BEGIN:VEVENT
UID:ed379470-594d-4148-b3af-62d52243c779
DTSTAMP:20260422T015732Z
DTSTART;VALUE=DATE:20260623
DTEND;VALUE=DATE:20260624
SUMMARY:Polocrosse Australia Nationals
DESCRIPTION:The Australian Polocrosse Nationals is the pinnacle of the Australian made sport of Polocrosse and is played biennially in rotation to each Australian state. \n\nIn 2026\, for the first time in over a decade\, the Nationals will be making its way back to Darwin\, hosted by the NT Polocrosse Association. \n\nThe lush green fields and shady sidelines of Freds Pass Reserve in Darwin's rural area awaits to welcome over 4\,000 attendees for a week of high energy polocrosse action\, entertainment\, market and food stalls. \n\nPolocrosse is an exhilarating equestrian sport that masterfully blends the strategic finesse of lacrosse with the dynamic horsemanship of polo. \n\nOriginating in Australia during the 1930s\, polocrosse has galloped its way into the hearts of over 6\,000 players worldwide\, captivating audiences with its fast-paced action and compelling teamwork. \n\nAt the core of polocrosse is a strong sense of family\, love of horses and community with intergenerational legacy\; there is no other sport like it.
LOCATION:\, Freds Pass\, NT 0822\, NT\, 0822
RRULE:FREQ=DAILY;INTERVAL=1;UNTIL=20260625T000000Z
END:VEVENT
END:VCALENDAR
