BEGIN:VCALENDAR
VERSION:2.0
PRODID:-//My Community Diary//iCal Event//EN
CALSCALE:GREGORIAN
METHOD:PUBLISH
BEGIN:VEVENT
UID:7eefad41-361f-4f7d-bbbe-b56ab69cb1e1
DTSTAMP:20260422T064850Z
DTSTART;VALUE=DATE:20260628
DTEND;VALUE=DATE:20260629
SUMMARY:Darwin Lions Beer Can Regatta
DESCRIPTION:The Darwin Lions Beer Can Regatta is an annual event not to be missed!\n\nThis iconic annual family fun event of Darwin was established in 1974 and is an event for all to use your imagination to design a vessel from cans as well as plastic bottles or milk cartons as long as it floats.\n\nThere is plenty of activities for the kids and a fun day out. The day includes individual and team Boat Races\, as well as sandcastle building\, thong throwing competitions\, Ironman and other races and many other beach events.\n\nEntry Cost\nFamily $20 \nAdult $5 
LOCATION:\, Maria Liveris Drive\, The Gardens\, NT 0820\, NT\, 0820
END:VEVENT
END:VCALENDAR
