BEGIN:VCALENDAR
VERSION:2.0
PRODID:-//My Community Diary//iCal Event//EN
CALSCALE:GREGORIAN
METHOD:PUBLISH
BEGIN:VEVENT
UID:d1c2fd4b-2591-499c-b586-3dae7dd7df36
DTSTAMP:20260424T155121Z
DTSTART:20240615T070000Z
DTEND:20240615T220000Z
SUMMARY:Outback Queensland Masters
DESCRIPTION:The Outback Queensland Masters is Australia’s most remote golf series\, spanning over 1\,650 kilometres across Queensland’s Outback in six locations: Birdsville\, Boulia\, Winton\, Barcaldine\, Charleville and Quilpie for the finale.\n\nIt’s Australia’s richest amateur golfing event with amateur and first-time golfers getting to have a professional type experience\, competing for AUD10\,000 hole-in-one opportunities in the first five locations and culminating with the Million-Dollar Hole-One challenge in Quilpie.\n\nIn June - July each year the Outback Queensland Masters attracts first-time\, social\, and amateur golfers to play 9-holes each day and dine under the stars of the Milky Way by night.\n\nPresented by Golf Australia\, Outback Queensland Masters is strategically partnered with Tourism and Events Queensland\, with support from local government councils and local golf clubs.\n\nEntry Cost\nAdult $370  - Player passes start from $370.00 for one location. All-inclusive player passes including all 6 locations are $2\,010.00.\n\nPasses include green fees\, breakfasts\, lunches and Dinner Under the Stars with live entertainment.\n\nFind your best pass online.
LOCATION:\, Birdsville\, QLD 4482\, QLD\, 4482
RRULE:FREQ=DAILY;INTERVAL=1;UNTIL=20240722T000000Z
END:VEVENT
END:VCALENDAR
