BEGIN:VCALENDAR
VERSION:2.0
PRODID:-//My Community Diary//iCal Event//EN
CALSCALE:GREGORIAN
METHOD:PUBLISH
BEGIN:VEVENT
UID:df20f31f-b33e-4a9f-87a5-6f8a18e662ab
DTSTAMP:20260422T071452Z
DTSTART;VALUE=DATE:20260509
DTEND;VALUE=DATE:20260510
SUMMARY:The Beatles Anthology
DESCRIPTION:Join us on a Magical Mystery Tour to relive the years of The Greatest Rock 'n' Roll Band of all time\n\nThe Beatles need no introduction.. THE most influential\, highest selling\, most important band in music history.\n\nIn this live 2 hour show\, we will take you down the Long and Winding Road – from the "Fab Four" days of matching suits and matching mop hair\, to the "experimental" days of Tangerine Trees\, Marmalade Skies\, and Kaleidescope Eyes\n\nIt's all there - the costumes\, the hairstyles\, the banter\, the left-handed "Paul".\n\nAll you need is love.. and a ticket to this show!\n\nEntry Cost\nAll tickets $49  - Member: $62.00\n\nAdult: $69.00\n\nConcession: $64.00\n\nChild: $49.00 \n\n*$1.65 per ticket booking fee applies. \n\nTo book wheelchair accessible seating please call the box office on 02 4823 4999.
LOCATION:\, 163 Auburn Street\, Goulburn\, NSW 2580\, NSW\, 2580
END:VEVENT
END:VCALENDAR
