BEGIN:VCALENDAR
VERSION:2.0
PRODID:-//My Community Diary//iCal Event//EN
CALSCALE:GREGORIAN
METHOD:PUBLISH
BEGIN:VEVENT
UID:0e1b128b-0186-47b0-a611-b81164782b1c
DTSTAMP:20260422T092112Z
DTSTART;VALUE=DATE:20260801
DTEND;VALUE=DATE:20260802
SUMMARY:St Ives Showground Market
DESCRIPTION:Experience the charm of the St Ives Organic Food Market\, held every weekend at the St Ives Showground by Organic Food Markets. Surrounded by tall gums and open spaces\, this relaxed boutique market features a curated mix of stalls offering fresh organic produce\, artisan bread\, gourmet treats\, handmade soaps\, and more.\n\nWhether you're shopping for groceries or exploring unique finds\, the passionate stallholders are always happy to help. Enjoy a locally roasted coffee and tasty bite as you wander.\n\nWith free parking\, room for kids to play\, and a welcoming community vibe\, it's the perfect weekend outing. Support local and discover the joy of fresh\, sustainable shopping.
LOCATION:\, 450 Mona Vale Rd\, St Ives\, NSW 2075\, NSW\, 2075
RRULE:FREQ=DAILY;INTERVAL=1;UNTIL=20260803T000000Z
END:VEVENT
END:VCALENDAR
