BEGIN:VCALENDAR
VERSION:2.0
PRODID:-//My Community Diary//iCal Event//EN
CALSCALE:GREGORIAN
METHOD:PUBLISH
BEGIN:VEVENT
UID:30af7036-a75b-4a10-9aa4-30d92b288c5e
DTSTAMP:20260421T205343Z
DTSTART;VALUE=DATE:20260503
DTEND;VALUE=DATE:20260504
SUMMARY:NSW Caravan Camping Holiday Supershow
DESCRIPTION:The NSW Caravan Camping Holiday Supershow is the place to find all the latest and greatest caravans\, motorhomes\, camper trailers\, slide-ons\, camping equipment\, tents\, holiday park displays\, tourism displays\, caravan\, four-wheel drive and touring accessories\, and much more.\n\nWith over 300 Exhibitors\, this is the ultimate way to check out what caravan and camping are all about. There is always something new to see and do at the Supershow.\n\nWhether you’re new to caravan and camping and want to discover what’s available or an avid enthusiast wanting to update your equipment\, you’re sure to find something to suit.\n\nFor more information\, visit the  Supershow website.\n\nEntry Cost\nAdult $25  - Book Online Prior To Event and Save\nConcession $20  - Book Online Prior To Event and Save\nChild $0  - 16 Years and Under
LOCATION:\, Grand Avenue\, Rosehill\, NSW 2142\, NSW\, 2142
RRULE:FREQ=DAILY;INTERVAL=1;UNTIL=20260505T000000Z
END:VEVENT
END:VCALENDAR
