BEGIN:VCALENDAR
VERSION:2.0
PRODID:-//My Community Diary//iCal Event//EN
CALSCALE:GREGORIAN
METHOD:PUBLISH
BEGIN:VEVENT
UID:45cb6218-b914-47d1-b462-1dd72360ba86
DTSTAMP:20260421T225641Z
DTSTART;VALUE=DATE:20260426
DTEND;VALUE=DATE:20260427
SUMMARY:Boggabri Drovers Campfire
DESCRIPTION:Boggabri Drover's Campfire will be celebrating its 20th Anniversary in April 2026! \n\nThe Boggabri Drovers' Campfire has become a much-anticipated feature for caravanners\, motor home\, camper\, four-wheel drive\, ute\, tent or swag owners and travellers along Australia's highways and byways. The event was the brainchild of Lion\, Geoff Eather and was developed with the support of the Boggabri Lions Club. It is a fabulous\, fun-filled weekend with lots of terrific activities for the whole family.  The event is always held in the last weekend of April.\n\nEvents at the Boggabri Drovers Campfire weekend include a big campfire\, camp oven cooking\, shearing demonstrations\, tours of the district and local attractions\, bush poets\, craft stalls\, whip cracking\, antique machinery display\, bush band\, nightly entertainment\, plus much more and most importantly\, get to know the locals. This event takes place at the Boggabri Showground.\n\nBoggabri is located on the Kamilaroi Highway between Gunnedah and Narrabri.
LOCATION:\, 2 Aerodrome Road\, Boggabri\, NSW 2382\, NSW\, 2382
RRULE:FREQ=DAILY;INTERVAL=1;UNTIL=20260428T000000Z
END:VEVENT
END:VCALENDAR
