BEGIN:VCALENDAR
VERSION:2.0
PRODID:-//My Community Diary//iCal Event//EN
CALSCALE:GREGORIAN
METHOD:PUBLISH
BEGIN:VEVENT
UID:c71d19d1-4029-432f-9466-a2123cdaaf79
DTSTAMP:20260422T050531Z
DTSTART;TZID=AUS Eastern Standard Time:20250621T133000
DTEND;TZID=AUS Eastern Standard Time:20250621T183000
SUMMARY:Hopwood Park Tennis Club - Social Tennis Program
DESCRIPTION:Social Tennis Program.\n\n\nCome and join us as a member\, guest or traveller at any of the following times (EST or daylight saving).\n\nNB.: No need to book\, just turn up and come in at the top gate adjacent to the concrete block clubhouse.\n\n\n	Saturday Tennis =&nbsp\;Ladies/Men's/Mixed 1:30 PM\n\n
LOCATION:Hopwood Park Tennis Club\, 38 Sunshine Avenue\, Turvey Park NSW 2650\, NSW\, 2650
RRULE:FREQ=WEEKLY;INTERVAL=1;BYDAY=SA
END:VEVENT
END:VCALENDAR
