BEGIN:VCALENDAR
VERSION:2.0
PRODID:-//My Community Diary//iCal Event//EN
CALSCALE:GREGORIAN
METHOD:PUBLISH
BEGIN:VEVENT
UID:6ccf4458-dc1c-41d1-93a4-deac78df52d2
DTSTAMP:20260422T004959Z
DTSTART;TZID=AUS Eastern Standard Time:20250618T060000
DTEND;TZID=AUS Eastern Standard Time:20250618T100000
SUMMARY:Hopwood Park Tennis Club - Competition Tennis.
DESCRIPTION:Competition Tennis\n\n\n	Wednesday nights mixed doubles\n\n\nN.B.:&nbsp\; You must&nbsp\; be a member of a NSW Tennis affiliated tennis club.\n\nIf you are not a member of such&nbsp\;a club you can apply to join Hopwood Park the first night you play&nbsp\;in the competition\, its only $20.00 for the financial&nbsp\; year.\n\nNo need to&nbsp\; create a team\, phone Matt 0458 766 334 to play.\n
LOCATION:Hopwood Park Tennis Club\, 38 Sunshine Avenue Turvey Park NSW 2650\, NSW\, 2650
RRULE:FREQ=WEEKLY;INTERVAL=1;BYDAY=WE
END:VEVENT
END:VCALENDAR
