BEGIN:VCALENDAR
VERSION:2.0
PRODID:-//My Community Diary//iCal Event//EN
CALSCALE:GREGORIAN
METHOD:PUBLISH
BEGIN:VEVENT
UID:40c309a7-4be2-4e1f-b69d-4715781b5184
DTSTAMP:20260424T160152Z
DTSTART;TZID=E. Australia Standard Time:20230519T193000
DTEND;TZID=E. Australia Standard Time:20230519T233000
SUMMARY:Monthly "Old Time Dance"
DESCRIPTION:Old Time Dancing with a bracket of Rock N Roll in the little bush hall at Dows Creek.&nbsp\;&nbsp\;\n\nEnjoy some old fashioned fun by dancing the night away to a live 2 piece band.&nbsp\; Great dances like: Waltz\; Gypsy Tap\; Barn Dance\; Oxford Waltz\; Evening Three Step\; Pride of Erin\; Maxina etc.&nbsp\;&nbsp\;\n\nThe supper provided is as fantastic as the dancing.&nbsp\; Lots of home made treats to temp the taste buds. Raffles and lucky spots to ad to the night. Admission is $15&nbsp\;per person.&nbsp\;\n\nAlways a friendly welcoming.\n\n&nbsp\;\n
LOCATION:Dows Creek Hall Committee Inc\, 16 Bourkes Road Dows Creek\, Mirani QLD 4754\, QLD\, 4754
RRULE:FREQ=MONTHLY;INTERVAL=1;BYDAY=3MO
END:VEVENT
END:VCALENDAR
