BEGIN:VCALENDAR
VERSION:2.0
PRODID:-//My Community Diary//iCal Event//EN
CALSCALE:GREGORIAN
METHOD:PUBLISH
BEGIN:VEVENT
UID:f374c2d5-298d-447d-b0a9-d6a73cc5a748
DTSTAMP:20260422T015652Z
DTSTART;VALUE=DATE:20260516
DTEND;VALUE=DATE:20260517
SUMMARY:The Rose St. Artists' Market
DESCRIPTION:Shop directly from Melbourne’s best artists\, designers\, crafters and makers at Fitzroy’s iconic Rose Street Market.  \n\nEach weekend there is a huge line-up of creative types\, so expect to feast your eyes on plenty of unique gems and one-off wonders that you will not get anywhere else.\n\nThere is everything from art\, homewares\, photography\, clothing\, accessories\, jewellery and more. Come along and see it for yourself.\n\nThirsty or hungry? The market has its own eatery complete with rooftop bar to make sure you are well fed for the day.
LOCATION:\, 60 Rose Street\, Fitzroy\, VIC 3065\, VIC\, 3065
RRULE:FREQ=DAILY;INTERVAL=1;UNTIL=20260518T000000Z
END:VEVENT
END:VCALENDAR
