BEGIN:VCALENDAR
VERSION:2.0
PRODID:-//My Community Diary//iCal Event//EN
CALSCALE:GREGORIAN
METHOD:PUBLISH
BEGIN:VEVENT
UID:26bc2d9c-04cb-4f30-ae37-0191c3578e8d
DTSTAMP:20260421T224122Z
DTSTART;VALUE=DATE:20270501
DTEND;VALUE=DATE:20270502
SUMMARY:Slowfood Edgewater Farmers Market
DESCRIPTION:Slow Food Melbourne is a community-driven network dedicated to good\, clean\, and fair food for all. They run vibrant farmers markets across Melbourne's west\, supporting small-scale producers\, promoting seasonal and sustainable eating\, and connecting locals with the people who grow and make their food.\n\nJoin the Slow Food Edgewater farmers' market on the 1st Saturday of every month at Maribyrnong Family Park between 9am - 1pm.\n\nEntry Cost\nAll tickets $0  - Entry by gold coin donation
LOCATION:\, 337 Gordon Street\, Maribyrnong\, VIC 3032\, VIC\, 3032
RRULE:FREQ=DAILY;INTERVAL=1;UNTIL=20270503T000000Z
END:VEVENT
END:VCALENDAR
