BEGIN:VCALENDAR
VERSION:2.0
PRODID:-//My Community Diary//iCal Event//EN
CALSCALE:GREGORIAN
METHOD:PUBLISH
BEGIN:VEVENT
UID:cc1739c7-09c4-4ed4-8c5b-f671fdf25dc2
DTSTAMP:20260422T001825Z
DTSTART;VALUE=DATE:20260607
DTEND;VALUE=DATE:20260608
SUMMARY:Melbourne MindBodySpirit Festival
DESCRIPTION:Held biannually\, the Melbourne Festival brings together more than 200 health and wellbeing exhibitors\, over 60 guest speakers and attracts more than 17\,000 visitors seeking a healthy and happier lifestyle.
LOCATION:\, 1 Convention Centre Place\, South Wharf\, VIC 3006\, VIC\, 3006
RRULE:FREQ=DAILY;INTERVAL=1;UNTIL=20260609T000000Z
END:VEVENT
END:VCALENDAR
