BEGIN:VCALENDAR
VERSION:2.0
PRODID:-//My Community Diary//iCal Event//EN
CALSCALE:GREGORIAN
METHOD:PUBLISH
BEGIN:VEVENT
UID:d07c9238-cfd1-4a61-971e-c0f878fe174b
DTSTAMP:20260422T001824Z
DTSTART;VALUE=DATE:20260606
DTEND;VALUE=DATE:20260607
SUMMARY:Melbourne MindBodySpirit Festival
DESCRIPTION:Held biannually\, the Melbourne Festival brings together more than 200 health and wellbeing exhibitors\, over 60 guest speakers and attracts more than 17\,000 visitors seeking a healthy and happier lifestyle.
LOCATION:\, 1 Convention Centre Place\, South Wharf\, VIC 3006\, VIC\, 3006
RRULE:FREQ=DAILY;INTERVAL=1;UNTIL=20260608T000000Z
END:VEVENT
END:VCALENDAR
