BEGIN:VCALENDAR
VERSION:2.0
PRODID:-//My Community Diary//iCal Event//EN
CALSCALE:GREGORIAN
METHOD:PUBLISH
BEGIN:VEVENT
UID:8c576537-76be-4355-bf7c-e3ac6076b73b
DTSTAMP:20260422T015651Z
DTSTART;VALUE=DATE:20260621
DTEND;VALUE=DATE:20260622
SUMMARY:The Greatest of Grunthal Ultimate Tasting Experience
DESCRIPTION:This is the ultimate way to experience everything Grünthal Brew has to offer—all in one delicious sitting.\nGuests will enjoy:\nOne Grünthal Gin & Tonic\nTwo Grünthal Beers\nTwo Hesketh Wines\nFive artisan cheeses\, including some from Udder Delights.\nAll perfectly matched on a curated tasting journey.\n\nDesigned as an all-in-one tasting for one person\, this experience brings together the best of the Adelaide Hills—craft beer\, small-batch gin\, elegant wine\, and local cheese.\n\nThere's nothing else quite like it. It's a rare chance to sample a curated selection across all four categories\, making it ideal for visitors who want to try it all without having to choose.\n\nPerfect for travellers\, day-trippers\, or locals looking to indulge\, this tasting is a true showcase of flavour\, craft\, and regional pride.\n\nEntry Cost\nAll tickets $38.9 
LOCATION:\, 827 Mount Barker Road\, Verdun\, SA 5245\, SA\, 5245
RRULE:FREQ=DAILY;INTERVAL=1;UNTIL=20260623T000000Z
END:VEVENT
END:VCALENDAR
