BEGIN:VCALENDAR
VERSION:2.0
PRODID:-//My Community Diary//iCal Event//EN
CALSCALE:GREGORIAN
METHOD:PUBLISH
BEGIN:VEVENT
UID:cc1ca8d6-8a18-447b-9b9a-0ff39e472cbe
DTSTAMP:20260422T002653Z
DTSTART;VALUE=DATE:20260424
DTEND;VALUE=DATE:20260425
SUMMARY:Grunthal Brew All You Can Eat Pizza Nights
DESCRIPTION:Hosted every Friday night at the popular Adelaide Hills destination Grünthal Brew\, All You Can Eat Pizza Night is the ultimate weekly gathering for pizza lovers. Settle in for a fun\, relaxed evening filled with flavour\, friends\, and a rolling selection of handmade pizzas fresh from the oven.\n\nThis isn't just dinner—it's a progressive pizza party. Pizzas roam the venue as they're hot and ready\, with guests encouraged to sit back\, enjoy\, and try a bit of everything. Requests are welcome later in the night\, but early on it's all about tasting the variety.\n\nThe dough is a 48-hour fermented\, deep-dish style\, giving each slice a rich\, chewy base and bold flavour.\n\nThe Line-Up Can Include:\nMargherita\, Ham & Fresh Pineapple\, Mushroom & Brie\, Honey Chilli Salami\, Meat Lovers\, Funky Chicken\, and Mediterranean Lamb. You'll get to try a variety!\n\nMore Than Just Pizza\nGrünthal Brew is home to a lively microbrewery\, distillery\, wine bar\, and cheesery—all under one roof. Guests can sip on fresh Grünthal beers brewed onsite\, enjoy small-batch gin in classic or creative cocktails\, or explore the exclusive Hesketh Wines range in a curated tasting flight or glass.\n\nWith a huge backyard overlooking the Onkaparinga River\, a relaxed atmosphere\, and plenty of local flavour\, Grünthal Brew is a must-visit spot for great food\, great drinks\, and good times—especially on a Friday night.\n\nEntry Cost\nAdult $28  - Children (3–12 years): $15\n\nChildren under 3: Free
LOCATION:\, 827 Mount Barker Rd\, Verdun\, SA 5245\, SA\, 5245
RRULE:FREQ=DAILY;INTERVAL=1;UNTIL=20260426T000000Z
END:VEVENT
END:VCALENDAR
