BEGIN:VCALENDAR
VERSION:2.0
PRODID:-//My Community Diary//iCal Event//EN
CALSCALE:GREGORIAN
METHOD:PUBLISH
BEGIN:VEVENT
UID:2a358c7d-0c7e-4115-a49c-bb471eeef381
DTSTAMP:20260422T021153Z
DTSTART;VALUE=DATE:20260615
DTEND;VALUE=DATE:20260616
SUMMARY:Free Trivia on the Terrace
DESCRIPTION:Start your week right with Free Trivia on The Terrace.\n\nGet your family\, friends or turn your workmates into real friends\, over free trivia plus you can grab a AUD20 Burger & Pint Monday night\, from 6.30pm\, exclusive for trivia players.\n\nTrivia is free and fun\, thanks to legends at Quizmeisters and their mates at Hahn.\n\nBook now\, come on your own and join a Community table or bring your crew.\n\nGreat prizes\, great mates\, great fun!\n\nFood & Drink Specials from 6.30pm – 8.30pm\, Trivia starts at 7pm
LOCATION:\, 878 Port Road\, Woodville South\, SA 5011\, SA\, 5011
RRULE:FREQ=DAILY;INTERVAL=1;UNTIL=20260617T000000Z
END:VEVENT
END:VCALENDAR
