BEGIN:VCALENDAR
VERSION:2.0
PRODID:-//My Community Diary//iCal Event//EN
CALSCALE:GREGORIAN
METHOD:PUBLISH
BEGIN:VEVENT
UID:0f2b1332-7a88-4176-a47a-508ef1d5173a
DTSTAMP:20260421T224237Z
DTSTART;VALUE=DATE:20260606
DTEND;VALUE=DATE:20260607
SUMMARY:Tatts Finke Desert Race
DESCRIPTION:The iconic Finke Desert Race is an off-road\, multi terrain two day race for bikes\, cars and buggies through desert country from Alice Springs to the small Aputula (Finke) community. The race is held each year on the long weekend in June. \n\nThe race is the main feature in the off road racing calendar and the King of the Desert Trophy is arguably the most sought after prize\, although...just getting there and back is a victory.\n\nThe premier racing event attracts entrants from all over Australia and the world\, including world-class Australian off-road and enduro motorcycle racer\, Toby Price (first Australian to win the Dakar Rally) and who won the race six times. \n\nThis unique outback event is said to be one of the most difficult off-road races in the world through remote terrain of red dirt\, sand and spinifex. For 3 days\, up to 650 bikes and 165 buggies & trophy trucks compete annually at this one of a kind race.\n\nThe Tatts Finke Desert Race is Australia's ultimate desert race.
LOCATION:\, Start/Finish Line Complex NTP 6333 South Stuart Highway\, Alice Springs\, NT 0870\, NT\, 0870
RRULE:FREQ=DAILY;INTERVAL=1;UNTIL=20260608T000000Z
END:VEVENT
END:VCALENDAR
