BEGIN:VCALENDAR
VERSION:2.0
PRODID:-//My Community Diary//iCal Event//EN
CALSCALE:GREGORIAN
METHOD:PUBLISH
BEGIN:VEVENT
UID:7b0a8939-4a2f-48e4-9e1d-90dc83b7e1dc
DTSTAMP:20260424T100720Z
DTSTART;VALUE=DATE:20260425
DTEND;VALUE=DATE:20260426
SUMMARY:ANZAC Day
DESCRIPTION:ANZAC Day: Honouring Courage and Sacrifice\n\nANZAC stands for the Australian and New Zealand Army Corps - the combined forces of the First Australian Imperial Force and the New Zealand Army. The name was first given to the troops who landed on the shores of Turkey's Gallipoli Peninsula at dawn on 25 April 1915\, just nine months after the outbreak of World War I.\n\nEach year\, on 25 April\, Australians and New Zealanders observe ANZAC Day\, a national day of remembrance that honours all who have served and died in wars\, conflicts\, and peacekeeping operations.\n\nCommemorations take two main forms:\n\nDawn Services are held across the country at the time of the original landing\, offering a moment of quiet reflection and respect.\n\nCommemorative Marches follow later in the day\, with veterans and current service personnel parading through cities and regional towns.\n\nFormal ceremonies are also held at war memorials nationwide. These collective observances invite Australians to reflect not only on the bravery and sacrifice of the ANZACs but also on the broader legacy and cost of war.
LOCATION:\, Darwin City\, NT 0800\, NT\, 0800
END:VEVENT
END:VCALENDAR
