BEGIN:VCALENDAR
VERSION:2.0
PRODID:-//My Community Diary//iCal Event//EN
CALSCALE:GREGORIAN
METHOD:PUBLISH
BEGIN:VEVENT
UID:e01eadfc-ef37-4619-8b5d-0e2ffb7a6ce9
DTSTAMP:20260422T015556Z
DTSTART;VALUE=DATE:20260502
DTEND;VALUE=DATE:20260503
SUMMARY:The Traveling Wilburys Collection - Goulburn
DESCRIPTION:The Traveling Wilburys.\n\nThere's never been a group\, let alone a supergroup\, in rock history quite like it.\n\nFour years\, two mega albums\, a slew of hits\, and a Grammy.\n\nBut the one thing they never did was tour. That is.. until now..\n\nThe Traveling Wilburys Collection bring together the collective talents\, excitement\, and magic that the original had to offer. Live. On stage. Like never before.\n\nFeaturing all the hits of the Traveling Wilburys PLUS the classics from each individual artist – Harrison\, The Beatles\, Petty\, The Heartbreakers\, Lynne\, ELO\, Orbison\, and Dylan.\n\nJoin them for a night of fun\, nostalgia\, and unforgettable hits.\n\nEntry Cost\nAll tickets $49  - Member: $62.00\n\nAdult: $69.00\n\nConcession: $64.00\n\nChild: $49.00 \n\n*$1.65 per ticket booking fee applies.\n\n\nTo book wheelchair accessible seating please call the box office on 02 4823 4999.
LOCATION:\, 163 Auburn Street\, Goulburn\, NSW 2580\, NSW\, 2580
END:VEVENT
END:VCALENDAR
