BEGIN:VCALENDAR
VERSION:2.0
PRODID:-//My Community Diary//iCal Event//EN
CALSCALE:GREGORIAN
METHOD:PUBLISH
BEGIN:VEVENT
UID:589748d4-1ef9-459a-b2ce-2630de612af2
DTSTAMP:20260421T211601Z
DTSTART;VALUE=DATE:20260519
DTEND;VALUE=DATE:20260520
SUMMARY:St Yve's Day
DESCRIPTION:St Yve is the Patron Saint of Brittany - one of the acknowledged Celtic nations in Glen Innes Highlands. The Australian Standing Stones Management Board will conduct a flag lowering ceremony to honour St Yve. \n\nJoin in the celebration\, hear about St Yve's exploits\, enjoy a toast to the Patron Saint with some traditional Breton food.\n\nThis is a free event. Raffle will be held.
LOCATION:\, Watsons Drive\, Glen Innes\, NSW 2370\, NSW\, 2370
END:VEVENT
END:VCALENDAR
