BEGIN:VCALENDAR
VERSION:2.0
PRODID:-//My Community Diary//iCal Event//EN
CALSCALE:GREGORIAN
METHOD:PUBLISH
BEGIN:VEVENT
UID:fe6b09a0-5388-4e55-accc-2fff1cfde9da
DTSTAMP:20260422T015616Z
DTSTART;VALUE=DATE:20260502
DTEND;VALUE=DATE:20260503
SUMMARY:Falling Leaf Festival
DESCRIPTION:The Bendigo Bank Falling Leaf Festival offers the very best of the region - local produce\, food\, arts and craft\, exceptional live music and community spirit - all wrapped up in one fabulous event now stretching over two and a bit days.\n\nMost activities are free\, but some require bookings by visiting the website. \n\nAutumn in the town of Tumut offers one of the most spectacular displays of seasonal colours to be found anywhere in New South Wales.
LOCATION:\, Tumut\, NSW 2720\, NSW\, 2720
RRULE:FREQ=DAILY;INTERVAL=1;UNTIL=20260504T000000Z
END:VEVENT
END:VCALENDAR
